BEGIN:VCALENDAR
VERSION:2.0
PRODID:-//eventon.com NONSGML v1.0//EN
CALSCALE:GREGORIAN
METHOD:PUBLISH
BEGIN:VEVENT
UID:69e4c7a2e2d8d
DTSTAMP:20260419T121634Z
DTSTART:20230129T080000Z
DTEND:20230129T225000Z
LOCATION:Ev.-Luth. St. Johanneskirche Neudörfler Str. 11\,  08062 Zwickau
SUMMARY:Gottesdienst
DESCRIPTION:\nhttps://stjohannesgemein.de/events/gd20230129/
URL:https://stjohannesgemein.de/events/gd20230129/
END:VEVENT
END:VCALENDAR