BEGIN:VCALENDAR
VERSION:2.0
PRODID:-//eventon.com NONSGML v1.0//EN
CALSCALE:GREGORIAN
METHOD:PUBLISH
BEGIN:VEVENT
UID:69e5fa80b5fcb
DTSTAMP:20260420T100552Z
DTSTART:20230101T080000Z
DTEND:20230101T225000Z
LOCATION:Ev.-Luth. St. Johanneskirche Neudörfler Str. 11\,  08062 Zwickau
SUMMARY:Festgottesdienst
DESCRIPTION:\nhttps://stjohannesgemein.de/events/fgd20230101/
URL:https://stjohannesgemein.de/events/fgd20230101/
END:VEVENT
END:VCALENDAR