BEGIN:VCALENDAR
VERSION:2.0
PRODID:-//eventon.com NONSGML v1.0//EN
CALSCALE:GREGORIAN
METHOD:PUBLISH
BEGIN:VEVENT
UID:69e7378abefe7
DTSTAMP:20260421T083834Z
DTSTART:20221123T150000Z
DTEND:20221123T163000Z
LOCATION:
SUMMARY:Kinderunterricht - Kl. 4+5
DESCRIPTION:Kinderunterricht - Kl. 4+5\nhttps://stjohannesgemein.de/events/
 ku4-5_202211u12/
URL:https://stjohannesgemein.de/events/ku4-5_202211u12/
END:VEVENT
END:VCALENDAR