BEGIN:VCALENDAR
VERSION:2.0
PRODID:-//eventon.com NONSGML v1.0//EN
CALSCALE:GREGORIAN
METHOD:PUBLISH
BEGIN:VEVENT
UID:69e89d07f206f
DTSTAMP:20260422T100351Z
DTSTART:20220901T173000Z
DTEND:20220901T215000Z
LOCATION:Kirchsaalgebäude Bodelschwinghstr. 6 Abseits\,  08062 Zwickau
SUMMARY:Bibelstunde
DESCRIPTION:Bibelstunde\nhttps://stjohannesgemein.de/events/bskat20220901/
URL:https://stjohannesgemein.de/events/bskat20220901/
END:VEVENT
END:VCALENDAR