BEGIN:VCALENDAR
VERSION:2.0
PRODID:-//eventon.com NONSGML v1.0//EN
CALSCALE:GREGORIAN
METHOD:PUBLISH
BEGIN:VEVENT
UID:69e5f55c5cc41
DTSTAMP:20260420T094356Z
DTSTART:20220703T063000Z
DTEND:20220703T064500Z
LOCATION:Ev.-Luth. St. Johanneskirche Neudörfler Str. 11\,  08062 Zwickau
SUMMARY:Beichtgottesdienst
DESCRIPTION:Beichtgottesdienst\nhttps://stjohannesgemein.de/events/bgd20220
 703/
URL:https://stjohannesgemein.de/events/bgd20220703/
END:VEVENT
END:VCALENDAR