BEGIN:VCALENDAR
VERSION:2.0
PRODID:-//eventon.com NONSGML v1.0//EN
CALSCALE:GREGORIAN
METHOD:PUBLISH
BEGIN:VEVENT
UID:69e74c890f69e
DTSTAMP:20260421T100809Z
DTSTART:20220419T173000Z
DTEND:20220419T215000Z
LOCATION:Kirchsaalgebäude Bodelschwinghstr. 6 Abseits\,  08062 Zwickau
SUMMARY:Jugendstunde
DESCRIPTION:Jugendstunde\nhttps://stjohannesgemein.de/events/jg202204-06/va
 r/ri-1.l-L1
URL:https://stjohannesgemein.de/events/jg202204-06/var/ri-1.l-L1
END:VEVENT
END:VCALENDAR