BEGIN:VCALENDAR
VERSION:2.0
PRODID:-//eventon.com NONSGML v1.0//EN
CALSCALE:GREGORIAN
METHOD:PUBLISH
BEGIN:VEVENT
UID:69eaa44997140
DTSTAMP:20260423T225921Z
DTSTART:20220418T070000Z
DTEND:20220418T215000Z
LOCATION:Ev.-Luth. St. Johanneskirche Neudörfler Str. 11\,  08062 Zwickau
SUMMARY:Abendmahlsandacht
DESCRIPTION:Leider ist nur eine begrenzte Anzahl an Teilnehmern möglich. M
 elden Sie sich deshalb bitte telefonisch an.\nhttps://stjohannesgemein.de/e
 vents/abmand20220418900/
URL:https://stjohannesgemein.de/events/abmand20220418900/
END:VEVENT
END:VCALENDAR