BEGIN:VCALENDAR
VERSION:2.0
PRODID:-//eventon.com NONSGML v1.0//EN
CALSCALE:GREGORIAN
METHOD:PUBLISH
BEGIN:VEVENT
UID:69e8aff353cf4
DTSTAMP:20260422T112435Z
DTSTART:20220327T070000Z
DTEND:20220327T215000Z
LOCATION:Ev.-Luth. St. Johanneskirche Neudörfler Str. 11\,  08062 Zwickau
SUMMARY:Gottesdienst
DESCRIPTION:Bitte beachten Sie die geltenden Abstandsregeln und tragen Sie 
 eine medizinische Maske überall dort\,  wo Sie den Abstand von 1\, 50 m ni
 cht einhalten können. Vielen Dank!\nhttps://stjohannesgemein.de/events/gdt
 20220327/
URL:https://stjohannesgemein.de/events/gdt20220327/
END:VEVENT
END:VCALENDAR