BEGIN:VCALENDAR
VERSION:2.0
PRODID:-//eventon.com NONSGML v1.0//EN
CALSCALE:GREGORIAN
METHOD:PUBLISH
BEGIN:VEVENT
UID:69e5988766182
DTSTAMP:20260420T030751Z
DTSTART:20211107T080000Z
DTEND:20211107T225000Z
LOCATION:Ev.-Luth. St. Johanneskirche Neudörfler Str. 11\,  08062 Zwickau
SUMMARY:Gottesdienst
DESCRIPTION:Gottesdienst\nhttps://stjohannesgemein.de/events/tgd20211107/
URL:https://stjohannesgemein.de/events/tgd20211107/
END:VEVENT
END:VCALENDAR