BEGIN:VCALENDAR
VERSION:2.0
PRODID:-//eventon.com NONSGML v1.0//EN
CALSCALE:GREGORIAN
METHOD:PUBLISH
BEGIN:VEVENT
UID:69e5e4887c082
DTSTAMP:20260420T083208Z
DTSTART:20210926T070000Z
DTEND:20210926T215000Z
LOCATION:Ev.-Luth. St. Johanneskirche Neudörfler Str. 11\,  08062 Zwickau
SUMMARY:Festgottesdienst
DESCRIPTION:Festgottesdienst\nhttps://stjohannesgemein.de/events/tgd2021092
 6/
URL:https://stjohannesgemein.de/events/tgd20210926/
END:VEVENT
END:VCALENDAR