BEGIN:VCALENDAR
VERSION:2.0
PRODID:-//eventon.com NONSGML v1.0//EN
CALSCALE:GREGORIAN
METHOD:PUBLISH
BEGIN:VEVENT
UID:69e5f9c609e8e
DTSTAMP:20260420T100246Z
DTSTART:20210109T170000Z
DTEND:20210109T225000Z
LOCATION:Kirchsaalgebäude Bodelschwinghstr. 6 Abseits\,  08062 Zwickau
SUMMARY:Jugendstunde
DESCRIPTION:Hier geht&#8217;s zur Online-Jugendstunde: https://zoom.us/j/93
 482790207?pwd=ZUdDZGZVNGQ4UUlhVy9CVU5WaDl0dz09 Meeting-ID: 934 8279 0207Ken
 ncode: 768617\nhttps://stjohannesgemein.de/events/202101_jugendstunde_janua
 r/
URL:https://stjohannesgemein.de/events/202101_jugendstunde_januar/
END:VEVENT
END:VCALENDAR