BEGIN:VCALENDAR
VERSION:2.0
PRODID:-//eventon.com NONSGML v1.0//EN
CALSCALE:GREGORIAN
METHOD:PUBLISH
BEGIN:VEVENT
UID:69e5f80ee8ab0
DTSTAMP:20260420T095526Z
DTSTART:20200517T070000Z
DTEND:20200517T070000Z
LOCATION:Ev.-Luth. St. Johanneskirche Neudörfler Str. 11\,  08062 Zwickau
SUMMARY:Gottesdienst
DESCRIPTION:Gottesdienst\nhttps://stjohannesgemein.de/events/gd20200517/
URL:https://stjohannesgemein.de/events/gd20200517/
END:VEVENT
END:VCALENDAR