BEGIN:VCALENDAR
VERSION:2.0
PRODID:-//eventon.com NONSGML v1.0//EN
CALSCALE:GREGORIAN
METHOD:PUBLISH
BEGIN:VEVENT
UID:69e7374d7f50c
DTSTAMP:20260421T083733Z
DTSTART:20200506T140000Z
DTEND:20200506T151500Z
LOCATION:Kirchsaalgebäude Bodelschwinghstr. 6 Abseits\,  08062 Zwickau
SUMMARY:Kinderunterricht - Kl. 4 und 5
DESCRIPTION:Kinderunterricht - Kl. 4 und 5\nhttps://stjohannesgemein.de/eve
 nts/ku4-5_20200506/
URL:https://stjohannesgemein.de/events/ku4-5_20200506/
END:VEVENT
END:VCALENDAR