BEGIN:VCALENDAR
VERSION:2.0
PRODID:-//eventon.com NONSGML v1.0//EN
CALSCALE:GREGORIAN
METHOD:PUBLISH
BEGIN:VEVENT
UID:69e5f6deab7a2
DTSTAMP:20260420T095022Z
DTSTART:20200329T070000Z
DTEND:20200328T230000Z
LOCATION:Ev.-Luth. St. Johanneskirche Neudörfler Str. 11\,  08062 Zwickau
SUMMARY:Gottesdienst
DESCRIPTION:Gottesdienst am Sonntag Judika\nhttps://stjohannesgemein.de/eve
 nts/gd20200329/
URL:https://stjohannesgemein.de/events/gd20200329/
END:VEVENT
END:VCALENDAR