BEGIN:VCALENDAR
VERSION:2.0
PRODID:-//eventon.com NONSGML v1.0//EN
CALSCALE:GREGORIAN
METHOD:PUBLISH
BEGIN:VEVENT
UID:69e74d2426313
DTSTAMP:20260421T101044Z
DTSTART:20260226T183000Z
DTEND:20260226T225900Z
LOCATION:Kirchsaalgebäude Bodelschwinghstr. 6 Abseits\,  08062 Zwickau
SUMMARY:Passionsandacht
DESCRIPTION:Passionsandacht\nhttps://stjohannesgemein.de/events/passionsand
 acht-2026/
URL:https://stjohannesgemein.de/events/passionsandacht-2026/
END:VEVENT
END:VCALENDAR