BEGIN:VCALENDAR
VERSION:2.0
PRODID:-//eventon.com NONSGML v1.0//EN
CALSCALE:GREGORIAN
METHOD:PUBLISH
BEGIN:VEVENT
UID:69e4c9eb203df
DTSTAMP:20260419T122619Z
DTSTART:20251031T080000Z
DTEND:20251031T225900Z
LOCATION:Ev.-Luth. St. Johanneskirche Neudörfler Str. 11\,  08062 Zwickau
SUMMARY:Abendmahlsgottesdienst
DESCRIPTION:Wer zum Tisch des Herrn gehen möchte\,  bereite sich in Stille
  und Demut auf den Sakramentsempfang vor und melde sich am Sonntag ab 8.30 
 Uhr in der Sakristei zum Abendmahl an.\nhttps://stjohannesgemein.de/events/
 abendmahlsgottesdienst-12/
URL:https://stjohannesgemein.de/events/abendmahlsgottesdienst-12/
END:VEVENT
END:VCALENDAR