BEGIN:VCALENDAR
VERSION:2.0
PRODID:-//eventon.com NONSGML v1.0//EN
CALSCALE:GREGORIAN
METHOD:PUBLISH
BEGIN:VEVENT
UID:69e5fa8012539
DTSTAMP:20260420T100552Z
DTSTART:20251023T173000Z
DTEND:20251023T215900Z
LOCATION:Kirchsaalgebäude Bodelschwinghstr. 6 Abseits\,  08062 Zwickau
SUMMARY:Bibelstunde
DESCRIPTION:Bibelstunde\nhttps://stjohannesgemein.de/events/bibelstunde/
URL:https://stjohannesgemein.de/events/bibelstunde/
END:VEVENT
END:VCALENDAR