BEGIN:VCALENDAR
VERSION:2.0
PRODID:-//eventon.com NONSGML v1.0//EN
CALSCALE:GREGORIAN
METHOD:PUBLISH
BEGIN:VEVENT
UID:69e74c6df02e9
DTSTAMP:20260421T100741Z
DTSTART:20250826T173000Z
DTEND:20250826T215900Z
LOCATION:Kirchsaalgebäude Bodelschwinghstr. 6 Abseits\,  08062 Zwickau
SUMMARY:Jugendstunde
DESCRIPTION:Jugendstunde\nhttps://stjohannesgemein.de/events/jugendstunde-6
 /
URL:https://stjohannesgemein.de/events/jugendstunde-6/
END:VEVENT
END:VCALENDAR