BEGIN:VCALENDAR
VERSION:2.0
PRODID:-//eventon.com NONSGML v1.0//EN
CALSCALE:GREGORIAN
METHOD:PUBLISH
BEGIN:VEVENT
UID:69e5f7182854b
DTSTAMP:20260420T095120Z
DTSTART:20251118T141000Z
DTEND:20251118T154000Z
LOCATION:Kirchsaalgebäude Bodelschwinghstr. 6 Abseits\,  08062 Zwickau
SUMMARY:Kinderunterricht - Kl. 4+5
DESCRIPTION:Kinderunterricht - Kl. 4+5\nhttps://stjohannesgemein.de/events/
 kinderunterricht-kl-4u5-7/
URL:https://stjohannesgemein.de/events/kinderunterricht-kl-4u5-7/
END:VEVENT
END:VCALENDAR