BEGIN:VCALENDAR
VERSION:2.0
PRODID:-//eventon.com NONSGML v1.0//EN
CALSCALE:GREGORIAN
METHOD:PUBLISH
BEGIN:VEVENT
UID:69e5e4c73f91a
DTSTAMP:20260420T083311Z
DTSTART:20250505T120000Z
DTEND:20250505T133000Z
LOCATION:Kirchsaalgebäude Bodelschwinghstr. 6 Abseits\,  08062 Zwickau
SUMMARY:Frauenkreis
DESCRIPTION:\nhttps://stjohannesgemein.de/events/frauenkreis-20250505/
URL:https://stjohannesgemein.de/events/frauenkreis-20250505/
END:VEVENT
END:VCALENDAR