BEGIN:VCALENDAR
VERSION:2.0
PRODID:-//eventon.com NONSGML v1.0//EN
CALSCALE:GREGORIAN
METHOD:PUBLISH
BEGIN:VEVENT
UID:69e7845bb283f
DTSTAMP:20260421T140619Z
DTSTART:20250305T141500Z
DTEND:20250305T151500Z
LOCATION:Kirchsaalgebäude Bodelschwinghstr. 6 Abseits\,  08062 Zwickau
SUMMARY:Kinderunterricht - Kl. 1-3
DESCRIPTION:Kinderunterricht - Kl. 1-3\nhttps://stjohannesgemein.de/events/
 ku-kl-1-3-maerz-april-2025/
URL:https://stjohannesgemein.de/events/ku-kl-1-3-maerz-april-2025/
END:VEVENT
END:VCALENDAR