BEGIN:VCALENDAR
VERSION:2.0
PRODID:-//eventon.com NONSGML v1.0//EN
CALSCALE:GREGORIAN
METHOD:PUBLISH
BEGIN:VEVENT
UID:69e4ca4e81b53
DTSTAMP:20260419T122758Z
DTSTART:20250304T183000Z
DTEND:20250304T225900Z
LOCATION:Kirchsaalgebäude Bodelschwinghstr. 6 Abseits\,  08062 Zwickau
SUMMARY:Jugendstunde
DESCRIPTION:Jugendstunde\nhttps://stjohannesgemein.de/events/jg-202503/
URL:https://stjohannesgemein.de/events/jg-202503/
END:VEVENT
END:VCALENDAR