BEGIN:VCALENDAR
VERSION:2.0
PRODID:-//eventon.com NONSGML v1.0//EN
CALSCALE:GREGORIAN
METHOD:PUBLISH
BEGIN:VEVENT
UID:69e5e7c312577
DTSTAMP:20260420T084555Z
DTSTART:20241201T080000Z
DTEND:20241201T225900Z
LOCATION:Ev.-Luth. St. Johanneskirche Neudörfler Str. 11\,  08062 Zwickau
SUMMARY:Abendmahlsgottesdienst
DESCRIPTION:Wer zum Tisch des Herrn gehen möchte\,  bereite sich in Stille
  und Demut auf den Sakramentsempfang vor und melde sich entweder telefonisc
 h bis Samstag oder am Sonntag ab 8.00 Uhr in der Sakristei zum Abendmahl an
 .\nhttps://stjohannesgemein.de/events/abendmahlsgottesdienst-01-12-2024/
URL:https://stjohannesgemein.de/events/abendmahlsgottesdienst-01-12-2024/
END:VEVENT
END:VCALENDAR