BEGIN:VCALENDAR
VERSION:2.0
PRODID:-//eventon.com NONSGML v1.0//EN
CALSCALE:GREGORIAN
METHOD:PUBLISH
BEGIN:VEVENT
UID:69e5fac95f581
DTSTAMP:20260420T100705Z
DTSTART:20240901T070000Z
DTEND:20240901T215900Z
LOCATION:Ev.-Luth. St. Johanneskirche Neudörfler Str. 11\,  08062 Zwickau
SUMMARY:Gottesdienst
DESCRIPTION:\nhttps://stjohannesgemein.de/events/gottesdienst-14snt/
URL:https://stjohannesgemein.de/events/gottesdienst-14snt/
END:VEVENT
END:VCALENDAR