BEGIN:VCALENDAR
VERSION:2.0
PRODID:-//eventon.com NONSGML v1.0//EN
CALSCALE:GREGORIAN
METHOD:PUBLISH
BEGIN:VEVENT
UID:69e550f5b1f65
DTSTAMP:20260419T220229Z
DTSTART:20240813T130000Z
DTEND:20240813T143000Z
LOCATION:https://us06web.zoom.us/j/88178836743?pwd=RkJMLzlHYlM1QVFBT0lZRSs3akNFdz09
SUMMARY:Konfirmandenunterricht
DESCRIPTION:Konfirmandenunterricht\nhttps://stjohannesgemein.de/events/konf
 irmandenunterricht_aug/
URL:https://stjohannesgemein.de/events/konfirmandenunterricht_aug/
END:VEVENT
END:VCALENDAR