BEGIN:VCALENDAR
VERSION:2.0
PRODID:-//eventon.com NONSGML v1.0//EN
CALSCALE:GREGORIAN
METHOD:PUBLISH
BEGIN:VEVENT
UID:69e5e81c749c0
DTSTAMP:20260420T084724Z
DTSTART:20240410T141500Z
DTEND:20240410T154500Z
LOCATION:Kirchsaalgebäude Bodelschwinghstr. 6 Abseits\,  08062 Zwickau
SUMMARY:Kinderunterricht - Kl. 4-6
DESCRIPTION:Kinderunterricht - Kl. 4-6\nhttps://stjohannesgemein.de/events/
 kinderunterricht-kl-4b6-april-mai/
URL:https://stjohannesgemein.de/events/kinderunterricht-kl-4b6-april-mai/
END:VEVENT
END:VCALENDAR