BEGIN:VCALENDAR
VERSION:2.0
PRODID:-//eventon.com NONSGML v1.0//EN
CALSCALE:GREGORIAN
METHOD:PUBLISH
BEGIN:VEVENT
UID:69e89dbb56ffb
DTSTAMP:20260422T100651Z
DTSTART:20240103T141500Z
DTEND:20240103T151500Z
LOCATION:Kirchsaalgebäude Bodelschwinghstr. 6 Abseits\,  08062 Zwickau
SUMMARY:Kinderunterricht - Kl. 1-3
DESCRIPTION:Kinderunterricht - Kl. 1-3\nhttps://stjohannesgemein.de/events/
 ku1b3_202401/
URL:https://stjohannesgemein.de/events/ku1b3_202401/
END:VEVENT
END:VCALENDAR