BEGIN:VCALENDAR
VERSION:2.0
PRODID:-//eventon.com NONSGML v1.0//EN
CALSCALE:GREGORIAN
METHOD:PUBLISH
BEGIN:VEVENT
UID:69e9be959b11a
DTSTAMP:20260423T063917Z
DTSTART:20231116T183000Z
DTEND:20231116T225000Z
LOCATION:Kirchsaalgebäude Bodelschwinghstr. 6 Abseits\,  08062 Zwickau
SUMMARY:Bibelstunde - Katechismus
DESCRIPTION:Bibelstunde - Katechismus\nhttps://stjohannesgemein.de/events/b
 ibelstunde-katechismus-im-november/
URL:https://stjohannesgemein.de/events/bibelstunde-katechismus-im-november/
END:VEVENT
END:VCALENDAR