BEGIN:VCALENDAR
VERSION:2.0
PRODID:-//eventon.com NONSGML v1.0//EN
CALSCALE:GREGORIAN
METHOD:PUBLISH
BEGIN:VEVENT
UID:69e5f9c57d8fc
DTSTAMP:20260420T100245Z
DTSTART:20231114T153000Z
DTEND:20231114T170000Z
LOCATION:https://us06web.zoom.us/j/88178836743?pwd=RkJMLzlHYlM1QVFBT0lZRSs3akNFdz09
SUMMARY:Konfirmandenunterricht
DESCRIPTION:Konfirmandenunterricht\nhttps://stjohannesgemein.de/events/konf
 irmandenunterricht-4/
URL:https://stjohannesgemein.de/events/konfirmandenunterricht-4/
END:VEVENT
END:VCALENDAR