BEGIN:VCALENDAR
VERSION:2.0
PRODID:-//eventon.com NONSGML v1.0//EN
CALSCALE:GREGORIAN
METHOD:PUBLISH
BEGIN:VEVENT
UID:69e74c890f6fa
DTSTAMP:20260421T100809Z
DTSTART:20230906T141500Z
DTEND:20230906T154500Z
LOCATION:
SUMMARY:Kinderunterricht - Kl. 4+5
DESCRIPTION:Kinderunterricht - Kl. 4+5\nhttps://stjohannesgemein.de/events/
 kinderunterricht-kl-4u5/
URL:https://stjohannesgemein.de/events/kinderunterricht-kl-4u5/
END:VEVENT
END:VCALENDAR