BEGIN:VCALENDAR
VERSION:2.0
PRODID:-//eventon.com NONSGML v1.0//EN
CALSCALE:GREGORIAN
METHOD:PUBLISH
BEGIN:VEVENT
UID:69e5f9c56b484
DTSTAMP:20260420T100245Z
DTSTART:20230425T130000Z
DTEND:20230425T143000Z
LOCATION:
SUMMARY:Kinderunterricht - Kl. 6+7
DESCRIPTION:Kinderunterricht - Kl. 6+7\nhttps://stjohannesgemein.de/events/
 ku6u72304-05/
URL:https://stjohannesgemein.de/events/ku6u72304-05/
END:VEVENT
END:VCALENDAR